BEGIN:VCALENDAR
VERSION:2.0
PRODID:-//イルトコ。 irutoco。 - ECPv5.14.0.4//NONSGML v1.0//EN
CALSCALE:GREGORIAN
METHOD:PUBLISH
X-WR-CALNAME:イルトコ。 irutoco。
X-ORIGINAL-URL:https://irutoco.jp
X-WR-CALDESC:イルトコ。 irutoco。 のイベント
REFRESH-INTERVAL;VALUE=DURATION:PT1H
X-Robots-Tag:noindex
X-PUBLISHED-TTL:PT1H
BEGIN:VTIMEZONE
TZID:Asia/Tokyo
BEGIN:STANDARD
TZOFFSETFROM:+0900
TZOFFSETTO:+0900
TZNAME:JST
DTSTART:20200101T000000
END:STANDARD
END:VTIMEZONE
BEGIN:VEVENT
DTSTART;TZID=Asia/Tokyo:20230625T000000
DTEND;TZID=Asia/Tokyo:20230625T000000
DTSTAMP:20260419T221342
CREATED:20230526T084157Z
LAST-MODIFIED:20230526T092205Z
UID:1988-1687651200-1687651200@irutoco.jp
SUMMARY:リノベーションを成功に導くインテリアセミナー/ HDC神戸
DESCRIPTION:６月２４日(土)２５(日)にHDC神戸様にて開催 \n暮らしを変えるアイディア満載！ \n【家づくりセミナー&相談会】 \n理想の住まいを実現する為の６つのセミナーの \nインテリア部門セミナーを福井が担当します。 \n  \n暮らしや日々の生活に一番近いところにあるインテリアや生活動線。その理想のイメージ固めや計画を出発点とし、リノベーションの設計をすることは自分や家族の理想的な生活空間を手に入れることに繋がります。\n. \n今回は、そんな理想的な生活空間のリノベーションを成功に導くインテリアの選び方や考え方をお伝えします。 \n. \n戸建てやマンションのリビングなど比較的広範囲のリノベーションをお考えの方、将来考えたいという方是非ご参加ください。 \n  \n————————————————— \n  \n■日時:２０２３年６月２５日(日) \n■時間：15時30分〜16時30分 (60分を予定しています) \n→直接のお申し込みリンクはこちら \n→６つのセミナー&相談会の情報はこちら \n《是非チェックください！》 \n会場:H D C神戸・５階HDCスタジオ \n(神戸市中央区東川崎町1−2−2「神戸ハーバーランド内」、 \nハウジング・デザイン・センター神戸) \n■ご予約・お問い合わせ: \nH D C 神戸ホームページ \n  \n  \n————————————————— \n開催日：6/24（土）、25（日）\nタイトル：暮らしを変えるアイデア満載！「家づくりセミナー＆相談会」\n内容：理想の住まいを実現するための6つのセミナー\n会場：HDC神戸（JR神戸駅前） \n◆6/25（日）15:30～16:30\n「リノベーションを成功に導くインテリア！\n理想の暮らしを手に入れるためのインテリアの選び方・考え方」\n福井栄里／二級建築士、インテリアコーディネーター\n@e_fukui \n申込やイベント詳細はこちら\nhttps://hdc.asahi.co.jp/kobe/event/ \n参加無料\n————————————————— \n  \n 
URL:https://irutoco.jp/seminor_event/tribe_events-1988/
LOCATION:HDC神戸\, 1-2-2「神戸ハーバーランド内」\, 神戸市中央区東川崎町\, 兵庫県\, 日本
ATTACH;FMTTYPE=image/png:https://irutoco.jp/wp-content/uploads/2023/05/381420CF-7583-4C46-B1BD-2633D1F852A2.png
END:VEVENT
BEGIN:VEVENT
DTSTART;TZID=Asia/Tokyo:20230225T200000
DTEND;TZID=Asia/Tokyo:20230225T210000
DTSTAMP:20260419T221342
CREATED:20230126T075422Z
LAST-MODIFIED:20230126T075619Z
UID:1965-1677355200-1677358800@irutoco.jp
SUMMARY:「寝室の照明とカーテンの設え方」セミナー/  HDC大阪
DESCRIPTION:2月25日（土）１１：００〜 \nハウジング・デザイン・センター大阪(HDC大阪)主催「春に向けて準備！HDCインテリアセミナー」にて「寝室の照明とカーテンの設え方」セミナーの講師をirutoco。代表 福井が務めます。皆様のご参加お待ちしています！ \n  \n日時：2023年２月25日（土）　11時～　（60分を予定しています） \n定員：30人 \n参加費：無料 \n会場：HDC大阪　C terrace \n(大阪市北区大深町３-１グランフロント大阪北館ナレッジキャピタル５F、 \nハウジング・デザイン・センター大阪内） \nご予約・詳細：HDC大阪ホームページ　https://hdc.asahi.co.jp/osaka/event/#p796 \nお問い合わせ先：HDC大阪　TEL.06-4802-2700 \n  \n1日の約3分の１を占める睡眠時間。睡眠の質を上げることは日々を自分らしく活きいきと過ごすためにとても重要です。また、睡眠の前の時間を心地よくゆっくりと過ごすことも同じように重要になります。寝室での睡眠前の時間をゆっくりと心地よく過ごし質の良い睡眠に導く「照明とカーテンの設え方」のポイントについてセミナーでお伝えします。特に、これからリフォームやご新築、又はお部屋の模様替えをお考えの方に聞いていただきたい内容です。
URL:https://irutoco.jp/seminor_event/tribe_events-1965/
LOCATION:HDC大阪\, 大阪府大阪市北区大深町3-1グランフロント大阪北館　ナレッジキャピタル５F\, 大阪市\, 日本
ATTACH;FMTTYPE=image/jpeg:https://irutoco.jp/wp-content/uploads/2023/01/IMG_8766-e1674719600350.jpg
END:VEVENT
BEGIN:VEVENT
DTSTART;TZID=Asia/Tokyo:20210910T103000
DTEND;TZID=Asia/Tokyo:20210910T120000
DTSTAMP:20260419T221342
CREATED:20210905T021131Z
LAST-MODIFIED:20210905T021131Z
UID:1636-1631269800-1631275200@irutoco.jp
SUMMARY:9月10日Fri神戸インテリアセミナーのお知らせ
DESCRIPTION:９月１０日(金)にHDC神戸様主催 \n「お悩み解決ウィーク」 \n【インテリアセミナーの募集案内】 \n〜家具・カーテンの素敵コーディネート〜 \n  \n外出が中々自由に出来ない中、お家やお部屋、日々の暮らしを心地よく快適にしたい！と考えるようになったという方も多いのではないでしょうか? \nリフォームやご新築を検討中の方、お部屋の模様替えに取り組みたい方、こんな時だからこそ自分が家族が「心地よいお部屋や暮らし」に前向きに取り組んでみませんか? \nセミナーでは家具のレイアウトや配置について、カーテンの種類などメリットやデメリットをお伝えしながら選び方のコツなどをお伝えします。セミナーの後はインテリアショップに講師が案内し、実物を見ながらミニセミナーも開催します。 \nコロナ渦の今だからこそ、日々過ごすお家を心地よく、暮らしよくする実現に向けて…一歩進めてみませんか? \nお申し込みお待ちしています。 \n  \n  \n\n ■日時:２０２１年９月１０日(金) \n■時間：10時30分〜12時00分 (60分を予定しています) \n→直接のお申し込みリンクはこちら \n→リフォームフェアイベントリンクはこちら《是非チェックください！》 \n  \n■定員:１５人参加費:無料 (※要予約 下記 U R L より) \n※ショールーム見学・案内あり。 \n■会場:H D C神戸・５階HDCスタジオ \n(神戸市中央区東川崎町1−2−2「神戸ハーバーランド内」、 \nハウジング・デザイン・センター神戸) \n■ご予約・お問い合わせ: \nH D C 神戸ホームページ \n(http://www.hdc.jp.net/kobe/event/) \nまたは、TEL.078-366-2700 よりご確認ください。 \n  \n————————————————— \nH D C 神戸では他にもセミナーが沢山開催されます↓ \nhttps://www.hdc.jp.net/kobe/event/ \n会場となる HDC 神戸(ハウジング・デザイン・センター神戸)は、水まわり設備やインテリアをはじめ、新築・リフォームなど“住まい”に関する約50のショールームが集まっており、“住まいの情報”が「ワンストップ」で得られる、神戸ハーバーランド内の「見て・触れて・体感できる」総合施設です。 \n是非この機会に、セミナーへのご参加も兼ねて「より良いおうち時間」について楽しんで考えて見られてくださいね。 \n  \n  \n 
URL:https://irutoco.jp/seminor_event/tribe_events-1636/
LOCATION:兵庫県
CATEGORIES:他社様主催セミナー
ATTACH;FMTTYPE=image/jpeg:https://irutoco.jp/wp-content/uploads/2021/09/phonto.jpg
END:VEVENT
BEGIN:VEVENT
DTSTART;TZID=Asia/Tokyo:20210709T100000
DTEND;TZID=Asia/Tokyo:20210709T120000
DTSTAMP:20260419T221342
CREATED:20210605T071342Z
LAST-MODIFIED:20210605T071954Z
UID:1621-1625824800-1625832000@irutoco.jp
SUMMARY:おうちdeショップ家づくりセミナー
DESCRIPTION:滋賀の子育てママの為の情報誌「ピースマム」さんと共催 \nおうちで「好き」を仕事にしたいママの為のセミナーを開催！ \n  \nおうちショップをするには、どんなリフォームが必要？どんなインテリアがおすすめ？ \n新築するならどうしたら？ショップ用の小屋って？などセミナーではママの疑問に答えながら \n  \nおうちにショップやサロンをつくる時の \nプライベート空間との分け方や生活感を感じさせない工夫などあなたらしい「お家ショップ」をつくる \nヒントをお伝えしていきます！ \n  \n —————————————————  \n ■日時：2021年7月9日（金）　 \n　10時～12持　 \n■定員：対面10人　※オンライン20人 \n■参加費：無料 \n■会場：フェリエ南草津　 \n(滋賀県草津市野路1-15-5） \n■お申込方法 \nピースマム　おうちdeショップセミナー申し込みフォームまで \n————————————————— \n※尚、対面の場合、託児がございませんのでお子様と一緒にご参加の場合はオンラインでのお申し込みをお勧め致します。 \n  \n皆さまのご参加お待ちしております！ \n  \n 
URL:https://irutoco.jp/seminor_event/tribe_events-1621/
LOCATION:フェリエ南草津
CATEGORIES:セミナー
ATTACH;FMTTYPE=image/png:https://irutoco.jp/wp-content/uploads/2021/06/phonto-2.png
END:VEVENT
BEGIN:VEVENT
DTSTART;TZID=Asia/Tokyo:20210321T130000
DTEND;TZID=Asia/Tokyo:20210321T170000
DTSTAMP:20260419T221342
CREATED:20210323T075234Z
LAST-MODIFIED:20210324T023822Z
UID:1522-1616331600-1616346000@irutoco.jp
SUMMARY:【終了】3月HDC大阪様主催インテリア対面セミナーのお知らせ
DESCRIPTION:3月21日（日）にHDC大阪様主催「くらし向上計画」 \nの「理想のインテリアの叶え方 リビング編」セミナーで \n講師を務めさせていただきます！ \n  \nおうち時間に意識が向かう時間を経て、改めて心地よく \n過ごせる「理想のインテリア」を一緒に叶えましょう。 \nセミナーでは“１からでも始められる”インテリアのテーマのつくり方から \nリビングにフォーカスした具体的なインテリアの手法をお伝えします。 \n —————————————————  \n ■日時：2021年3月21日（日）　 \n①13時～　※残席わずか \n②15時30分〜（各90分を予定） \n■定員：各会24人 \n■参加費：無料 \n■会場：HDC大阪　C terrace　 \n(大阪市北区大深町３-１グランフロント大阪北館ナレッジキャピタル５F、ハウジング・デザイン・センター大阪内） \n■ご予約・お問い合わせ： \nHDC大阪ホームページ（ https://www.hdc.jp.net/osaka/event/ ）TEL.06-4802-2700 \n—————————————————  \nぜひたくさんのお申し込みお待ちしております！ \n.―――――――――――――――――――――――――― \n「くらし向上計画」では他にもセミナーがたくさんあります！ \nhttps://www.hdc.jp.net/osaka/event/ \n  \n今回会場となるHDC大阪はインテリアショップ５つとキッチンショールーム４つが1フロアに集まり、一度に見て回れる「住まいのショッピングストリート」です。 \n※イベント内容は予告なく変更になる場合があります。 \n 
URL:https://irutoco.jp/seminor_event/tribe_events-1522/
LOCATION:兵庫県
CATEGORIES:他社様主催セミナー
ATTACH;FMTTYPE=image/jpeg:https://irutoco.jp/wp-content/uploads/2021/03/154824343_284258903054252_8114287737376400919_n.jpg
END:VEVENT
BEGIN:VEVENT
DTSTART;TZID=Asia/Tokyo:20210227T140000
DTEND;TZID=Asia/Tokyo:20210227T150000
DTSTAMP:20260419T221342
CREATED:20210131T065456Z
LAST-MODIFIED:20210323T073128Z
UID:1506-1614434400-1614438000@irutoco.jp
SUMMARY:【終了】HDC大阪様主催【インテリア”オンライン”セミナー募集】のお知らせ
DESCRIPTION:２月２７日(土) HDC大阪様主催「くらし向上計画」 \n【インテリア “オンラインセミナー” の募集のご案内】 \n  \n２月２７日（土）にHDC大阪様主催「くらし向上計画」のオンラインセミナーで \nirutoco。代表 福井 が講師を務めさせていただきます！ \nセミナータイトルは「理想のインテリアの叶え方 少しの工夫でセンスアップできるコツ。お部屋を心地良い空間に」です。 \n  \n外出自粛の期間もあり、“おうち時間”を心地よくしたいとお考えの方も多いと思います。 \n少しの工夫でお部屋や日々の暮らしを心地よく出来るコツをお伝えします。おうちで気軽にご参加頂けたら嬉しいです。 \n  \n―――――――――――――――――――――――――― \n■日時：２０２１年２月２７日（土）　 \n■時間：１４時～（６０分を予定しています） \n■参加費：無料（youtubeによるオンラインライブセミナー） \n■参加方法：HDC大阪・ホームページ（https://www.hdc.jp.net/osaka/event/#s-up）よりご予約ください。 \n  \nぜひたくさんのお申し込みお待ちしております！ \n―――――――――――――――――――――――――― \n「くらし向上計画」では他にもセミナーがたくさんあります！ \nhttp://www.hdc.jp.net/osaka/event/ \n「くらし向上計画」主催のHDC大阪はインテリアショップ５つとキッチンショールーム４つが1フロアに集まり、一度に見て回れる「住まいのショッピングストリート」です。 \n※イベント内容は予告なく変更になる場合があります。 \n 
URL:https://irutoco.jp/seminor_event/tribe_events-1506/
LOCATION:HDC大阪\, 大阪府大阪市北区大深町3-1グランフロント大阪北館　ナレッジキャピタル５F\, 大阪市\, 日本
CATEGORIES:他社様主催セミナー
ATTACH;FMTTYPE=image/jpeg:https://irutoco.jp/wp-content/uploads/2020/10/C921C1D3-F252-4AB7-924E-B089CD37131F.jpg
END:VEVENT
BEGIN:VEVENT
DTSTART;TZID=Asia/Tokyo:20210130T103000
DTEND;TZID=Asia/Tokyo:20210130T163000
DTSTAMP:20260419T221342
CREATED:20210121T120902Z
LAST-MODIFIED:20210323T073047Z
UID:1460-1612002600-1612024200@irutoco.jp
SUMMARY:【終了】irutoco。暮らしの相談会　女性設計士による無料相談会
DESCRIPTION:irutoco。暮らしの相談会  \n\ 開催のお知らせ / \n日時：１月３０日(土)１０時３０分〜１６時３０分 \n  \n企画、デザイン設計をさせて頂きました \n森田住宅様 大津市秋葉台分譲地内”コラボモデルハウス”内にてirutoco。 ライフスタイリスト・建築士　福井栄里　による「暮らしの相談会」させて頂きます。 \n  \n再びの外出自粛、ステイホーム期間ですが \n\「おうち時間」や「家族との時間」を改めて考えたい/ \n\「暮らし方」自体を自分たちに合わせてリニューアルしたい/ \nそんな想いを持たれている方もいらっしゃるのではないでしょうか？ \n  \nご新築やリフォーム、またお部屋のリニューアルetc ご相談内容は問いません。 \nまた、現在お打ち合わせ段階のお家の「間取り」のセカンドオピニオンも女性設計士の目線から行うことも可能です。 \n是非お気軽にモデルハウスまでお越しください。 \n  \nご相談は無料です。開催時間中はモデルハウス内に居りますので、ご都合の良い時間にお越しください。また、予めご来場時間が決まっておられましたら事前にご都合の良い時間をお知らせください。優先してご相談をさせて頂きます。 \n（下部リンク「お問い合わせフォーム」よりご連絡ください） \n  \n【ご相談・事前ご予約について】 \n▶︎ご相談時間は１組様４５分程度とさせて頂きます。 \n▶︎ご相談は１組様づつとさせて頂きますので、事前のご予約無しでのご来場の場合はご相談までお待ち頂く場合がございます。 \n▶︎ご相談のご予約時間は先着順とさせて頂きます。同時間帯にご希望が重なった場合は先にご予約頂いた方を優先させて頂きます。 \n▶︎事前のご相談のご予約は前日の夕方５時までとさせて頂きます。 \n  \nお問い合わせ・ご予約はこちらから \n  \n…………………………………………………………………………… \n▶︎当日はモデルハウス内にて、タラムテコBT-180という高性能空気清浄機を稼働し除菌しております。その他対策をしてお待ちしておりますので、お子様連れでもご安心してお越しください。 \n…………………………………………………………………………… \n  \n【ご相談会場】 \n大津市秋葉台分譲地森田住宅×イルトコ コラボハウス \n \n【お問い合わせ】irutoco.福井迄 \n✉️info@irutoco.jp \nTEL:077-572-7551 \n当日ご連絡先：090-5094-7551 \n……………………………………………………………………………
URL:https://irutoco.jp/seminor_event/tribe_events-1460/
LOCATION:大津市秋葉台モデルハウス現地\, 秋葉台19\, 大津市\, 滋賀県\, 日本
CATEGORIES:イベント
ATTACH;FMTTYPE=image/jpeg:https://irutoco.jp/wp-content/uploads/2020/10/top-voice.jpg
ORGANIZER;CN="%E3%82%A4%E3%83%AB%E3%83%88%E3%82%B3%E3%80%82":MAILTO:info@irutoco.jp
END:VEVENT
BEGIN:VEVENT
DTSTART;TZID=Asia/Tokyo:20201129T103000
DTEND;TZID=Asia/Tokyo:20201129T153000
DTSTAMP:20260419T221342
CREATED:20201106T052501Z
LAST-MODIFIED:20210111T051615Z
UID:1413-1606645800-1606663800@irutoco.jp
SUMMARY:【終了】HDC神戸様主催  ”夢のリフォームを叶えるセミナー”
DESCRIPTION:11月29日(日)にHDC神戸様主催 \n「リフォームフェア」 \n【セミナーの募集のご案内】 \n夢のリフォームを叶える！〜知らないと損する業者選びのコツと付き合い方〜 \n  \nコロナ渦で、お家やお部屋の事、日々の暮らしについて考えるようになったという方も多いのではないでしょうか? \n「生活導線が整えられて、インテリアも素敵な 心地よいお部屋や暮らし」折角リフォームをするなら あなたの夢を叶えてみませんか? \n セミナーでは「あなたの夢のリフォームを叶える」ための業者様の選定の仕方とお付き合いの仕方のコツをお伝え致します。 \nコロナ渦の今だからこそ、日々過ごすお家について、そして暮らしについて…一緒に考えてみませんか? \n  \n  \n\n ■日時:2020年11月29日(日) \n■時間：10時30分〜 (60分を予定しています) \n→直接のお申し込みリンクはこちら \n→リフォームフェアイベントリンクはこちら《是非チェックください！》 \n  \n■定員:30人参加費:無料 (※要予約 下記 U R L より) \n※セミナー後個別相談会あり。 \n■会場:H D C神戸５Fギャラリー \n(神戸市中央区東川崎町1−2−2「神戸ハーバーランド内」、 \nハウジング・デザイン・センター神戸) \n■ご予約・お問い合わせ: \nH D C 神戸ホームページ \n(http://www.hdc.jp.net/kobe/event/) \nまたは、TEL.078-366-2700 よりご確認ください。 \n  \n————————————————— \nそして、なんと！セミナー後は「劇的！ビフォーアフター」にも複数回ご出演経験もあるベテラン建築士の西濱浩次さんとの座談会にも登壇させて頂く予定です。 \n「With コロナ時代の家づくり」座談会　ゲスト：西濱浩次さん・福井栄里 \n→直接のお申し込みリンクはこちら \n– \n————————————————– \n ■最新blog▽ \n大人かわいい♡キッチンリノベーションReport① \n miyako.blisskitchen 様の「リフォーム秘話」も \n神戸のセミナーでお話しさせて頂く予定です。 \n是非遊びに来てくださいね。 \n—————————————————  \n  \nH D C 神戸では他にもセミナーが沢山開催されます↓ \nhttps://www.hdc.jp.net/kobe/event/ \n会場となる HDC 神戸(ハウジング・デザイン・センター神戸)は、水まわり設備やインテリアをはじめ、新築・リフォームなど“住まい”に関する約50のショールームが集まっており、“住まいの情報”が「ワンストップ」で得られる、神戸ハーバーランド内の「見て・触れて・体感できる」総合施設です。 \n是非この機会に、セミナーへのご参加も兼ねて「より良いおうち時間」について楽しんで考えて見られてくださいね。 \n  \n  \n 
URL:https://irutoco.jp/seminor_event/tribe_events-1413/
LOCATION:HDC神戸\, 1-2-2「神戸ハーバーランド内」\, 神戸市中央区東川崎町\, 兵庫県\, 日本
CATEGORIES:他社様主催セミナー
ATTACH;FMTTYPE=image/jpeg:https://irutoco.jp/wp-content/uploads/2020/11/phonto-3.jpg
END:VEVENT
BEGIN:VEVENT
DTSTART;TZID=Asia/Tokyo:20201123T110000
DTEND;TZID=Asia/Tokyo:20201123T150000
DTSTAMP:20260419T221342
CREATED:20201106T051028Z
LAST-MODIFIED:20210111T051641Z
UID:1402-1606129200-1606143600@irutoco.jp
SUMMARY:【終了】HDC名古屋様主催　”お部屋のセンスアップセミナー”
DESCRIPTION:  \n11月23日(月・祝) HDC名古屋様主催「感謝祭」 \n【インテリアセミナーの募集のご案内】 \n理想のインテリアの叶え方〜少しの工夫でセンスアップできるコツ〜 \n  \nステイホーム期間で、お家やお部屋の事を以前よりも考えるようになったという方も多いのではないでしょうか？ \n  \n今のお部屋でも、今あるものでも少しの工夫で心地よく” お家時間 “を楽しく過ごして頂けるような \nインテリアセミナーが出来たらと思っています。 \n  \nお近くの方、名古屋に連休中は遊びに行ってみようかなという方が居られましたら是非セミナーにて \nお会い出来ましたら幸いです。 \n  \n————————————————— \n■日時:2020年11月23日(月・祝)  \n■1回目: 11時〜／ 2回目: 14時〜(各 ６０分 を予定しています) \n→直接のお申し込みリンクはこちら \n→「感謝祭」のイベントリンクはこちら《是非チェックください！》 \n  \n■定員：各回 25人 \n■参加費：無料 \n■会場：HDC名古屋　11F  C terrace  \n(〒450-6411 名古屋市中村区名駅3-28-12 大名古屋ビルヂング 10 ・ 11 階lifestyle & Service 内) \n■ご予約・お問い合わせ： \nHDC名古屋ホームページ( http://www.hdc.jp.net/nagoya/event/) \nあるいはTEL.052-566-2700より御確認下さい。
URL:https://irutoco.jp/seminor_event/tribe_events-1402/
LOCATION:HDC名古屋\, 3-28-12大名古屋ビルヂング11階 Cterrace\, 名古屋市中村区名駅\, 愛知県\, 日本
CATEGORIES:セミナー,他社様主催セミナー
ATTACH;FMTTYPE=image/jpeg:https://irutoco.jp/wp-content/uploads/2020/11/phonto.jpg
END:VEVENT
BEGIN:VEVENT
DTSTART;TZID=Asia/Tokyo:20201031T103000
DTEND;TZID=Asia/Tokyo:20201101T160000
DTSTAMP:20260419T221342
CREATED:20201005T090656Z
LAST-MODIFIED:20201016T073020Z
UID:1193-1604140200-1604246400@irutoco.jp
SUMMARY:おうちづくり &ライフプラン相談会
DESCRIPTION:自分達の希望がつまった家づくりがしたい \nおしゃれなインテリアで家事や子育てがしやすい \n間取りがいいな… \n  \nそんなお家づくりを、お客様に寄り添い叶えるirutoco。と大津市で創業４０年。地域の方に長年信頼されている森田住宅がコラボし、今回相談会会場となる「ママ目線」のモデルハウスが完成しました。 \n  \n当日はインテリアコーディネートされたモデルハウスを見学頂き、お家づくりのイメージをふくらませて頂いた後は、 \n  \n住宅取得の際の知って得する情報をお伝えさせて頂いたり、お客様に合わせた月々の返済計画のシュミレーションなど「希望」を「現実」に変えるご相談を無料でさせて頂きます。 \n  \n滋賀で大津で家づくりを始めようと考えられている方、是非お気軽にご参加下さいね。予約制の相談会なので下記よりお申し込みください。 \n\n→相談会のご予約はこちら\n  \n※ご予約の際に下記ご希望の日時をお選びください。 \n10月31日(土) \n①10:30~12:00 \n②13:00~14:30 \n③14:30~16:00 \n  \n11月1日(日) \n①10:30~12:00 \n②13:00~14:30 \n③14:30~16:00 \n  \n事前予約制にて1枠1組ずつの相談会ですので。ほかのお客様と重なることはございません。弊社スタッフはマスクを着用しての接客をします。来場されるお客様にもマスク着用のご協力をお願いしております。お客様、弊社スタッフが使用できるアルコールシートをご用意しております。 \n 
URL:https://irutoco.jp/seminor_event/tribe_events-1193/
LOCATION:大津市秋葉台モデルハウス現地\, 秋葉台19\, 大津市\, 滋賀県\, 日本
ATTACH;FMTTYPE=image/jpeg:https://irutoco.jp/wp-content/uploads/2020/10/0192.jpg
ORGANIZER;CN="%E3%82%A4%E3%83%AB%E3%83%88%E3%82%B3%E3%80%82":MAILTO:info@irutoco.jp
END:VEVENT
BEGIN:VEVENT
DTSTART;TZID=Asia/Tokyo:20200701T100000
DTEND;TZID=Asia/Tokyo:20200731T170000
DTSTAMP:20260419T221342
CREATED:20200624T083207Z
LAST-MODIFIED:20200624T084139Z
UID:1173-1593597600-1596214800@irutoco.jp
SUMMARY:【OPEN HOUSE】森田住宅×irutoco.
DESCRIPTION:滋賀県大津市で長年「ご家族の愛着が深まる住まいづくり」をご提案され続けている森田住宅株式会社様。 \n森田住宅×irutoco.コラボ住宅【家族の笑顔が集まるお家】が完成しました。 \n現役ママプランナーirutoco.代表 福井が間取りから外装・内装コーディネートまでさせて頂いた住宅です。 \n閑静な住宅街大津市秋葉台の分譲地内コンセプトモデルハウスとして、2020年7月の毎週（土）・（日）にオープンハウスを開催します。 \n是非この機会に小さなお子様が居てもすごし易い生活動線、日々の暮らしが楽しくなるようなインテリアを現地にてお確かめください。 \n◇お問合せ・ご見学申込／irutoco.HPお問合せページより、「モデルハウス見学希望」と記載。見学希望日時をお知らせください。irutoco.福井がご案内可能日時であれば、同行とご説明をさせて頂きます。 \n◇現地地図情報／詳細な場所や道順について、お問合せ後ご連絡させて頂きます。
URL:https://irutoco.jp/seminor_event/tribe_events-1173/
LOCATION:大津市秋葉台モデルハウス現地\, 秋葉台19\, 大津市\, 滋賀県\, 日本
CATEGORIES:イベント
ATTACH;FMTTYPE=image/jpeg:https://irutoco.jp/wp-content/uploads/2020/06/ecf465fbd0185fc5a999c1a8f93b36b8.jpg
ORGANIZER;CN="%E3%82%A4%E3%83%AB%E3%83%88%E3%82%B3%E3%80%82":MAILTO:info@irutoco.jp
END:VEVENT
END:VCALENDAR