BEGIN:VCALENDAR
VERSION:2.0
PRODID:-//イルトコ。 irutoco。 - ECPv5.14.0.4//NONSGML v1.0//EN
CALSCALE:GREGORIAN
METHOD:PUBLISH
X-WR-CALNAME:イルトコ。 irutoco。
X-ORIGINAL-URL:https://irutoco.jp
X-WR-CALDESC:イルトコ。 irutoco。 のイベント
REFRESH-INTERVAL;VALUE=DURATION:PT1H
X-Robots-Tag:noindex
X-PUBLISHED-TTL:PT1H
BEGIN:VTIMEZONE
TZID:Asia/Tokyo
BEGIN:STANDARD
TZOFFSETFROM:+0900
TZOFFSETTO:+0900
TZNAME:JST
DTSTART:20200101T000000
END:STANDARD
END:VTIMEZONE
BEGIN:VEVENT
DTSTART;TZID=Asia/Tokyo:20200701T100000
DTEND;TZID=Asia/Tokyo:20200731T170000
DTSTAMP:20260419T235918
CREATED:20200624T083207Z
LAST-MODIFIED:20200624T084139Z
UID:1173-1593597600-1596214800@irutoco.jp
SUMMARY:【OPEN HOUSE】森田住宅×irutoco.
DESCRIPTION:滋賀県大津市で長年「ご家族の愛着が深まる住まいづくり」をご提案され続けている森田住宅株式会社様。 \n森田住宅×irutoco.コラボ住宅【家族の笑顔が集まるお家】が完成しました。 \n現役ママプランナーirutoco.代表 福井が間取りから外装・内装コーディネートまでさせて頂いた住宅です。 \n閑静な住宅街大津市秋葉台の分譲地内コンセプトモデルハウスとして、2020年7月の毎週（土）・（日）にオープンハウスを開催します。 \n是非この機会に小さなお子様が居てもすごし易い生活動線、日々の暮らしが楽しくなるようなインテリアを現地にてお確かめください。 \n◇お問合せ・ご見学申込／irutoco.HPお問合せページより、「モデルハウス見学希望」と記載。見学希望日時をお知らせください。irutoco.福井がご案内可能日時であれば、同行とご説明をさせて頂きます。 \n◇現地地図情報／詳細な場所や道順について、お問合せ後ご連絡させて頂きます。
URL:https://irutoco.jp/seminor_event/tribe_events-1173/
LOCATION:大津市秋葉台モデルハウス現地\, 秋葉台19\, 大津市\, 滋賀県\, 日本
CATEGORIES:イベント
ATTACH;FMTTYPE=image/jpeg:https://irutoco.jp/wp-content/uploads/2020/06/ecf465fbd0185fc5a999c1a8f93b36b8.jpg
ORGANIZER;CN="%E3%82%A4%E3%83%AB%E3%83%88%E3%82%B3%E3%80%82":MAILTO:info@irutoco.jp
END:VEVENT
END:VCALENDAR